BEGIN:VCALENDAR
VERSION:2.0
PRODID:-//mehr RAUM - ECPv6.2.3.2//NONSGML v1.0//EN
CALSCALE:GREGORIAN
METHOD:PUBLISH
X-ORIGINAL-URL:https://mehr-raum.at
X-WR-CALDESC:Veranstaltungen für mehr RAUM
REFRESH-INTERVAL;VALUE=DURATION:PT1H
X-Robots-Tag:noindex
X-PUBLISHED-TTL:PT1H
BEGIN:VTIMEZONE
TZID:Europe/Berlin
BEGIN:DAYLIGHT
TZOFFSETFROM:+0100
TZOFFSETTO:+0200
TZNAME:CEST
DTSTART:20240331T010000
END:DAYLIGHT
BEGIN:STANDARD
TZOFFSETFROM:+0200
TZOFFSETTO:+0100
TZNAME:CET
DTSTART:20241027T010000
END:STANDARD
END:VTIMEZONE
BEGIN:VEVENT
DTSTART;TZID=Europe/Berlin:20240322T180000
DTEND;TZID=Europe/Berlin:20240322T200000
DTSTAMP:20260420T135309
CREATED:20240127T120353Z
LAST-MODIFIED:20240219T153049Z
UID:2200-1711130400-1711137600@mehr-raum.at
SUMMARY:Sowana - Reinigungsprodukte aus Österreich
DESCRIPTION:Frühjahrsputz \nUmweltfreundlich\, nachhaltig und regional
URL:https://mehr-raum.at/termin/sowana/
ATTACH;FMTTYPE=image/jpeg:https://mehr-raum.at/wp-content/uploads/2024/01/IMG_0015.jpg
ORGANIZER;CN="Katrin Heissenberger":MAILTO:kati.heissenberger@gmail.com
END:VEVENT
END:VCALENDAR