BEGIN:VCALENDAR
VERSION:2.0
PRODID:-//mehr RAUM - ECPv6.2.3.2//NONSGML v1.0//EN
CALSCALE:GREGORIAN
METHOD:PUBLISH
X-WR-CALNAME:mehr RAUM
X-ORIGINAL-URL:https://mehr-raum.at
X-WR-CALDESC:Veranstaltungen für mehr RAUM
REFRESH-INTERVAL;VALUE=DURATION:PT1H
X-Robots-Tag:noindex
X-PUBLISHED-TTL:PT1H
BEGIN:VTIMEZONE
TZID:Europe/Berlin
BEGIN:DAYLIGHT
TZOFFSETFROM:+0100
TZOFFSETTO:+0200
TZNAME:CEST
DTSTART:20240331T010000
END:DAYLIGHT
BEGIN:STANDARD
TZOFFSETFROM:+0200
TZOFFSETTO:+0100
TZNAME:CET
DTSTART:20241027T010000
END:STANDARD
END:VTIMEZONE
BEGIN:VEVENT
DTSTART;TZID=Europe/Berlin:20240328T180000
DTEND;TZID=Europe/Berlin:20240328T200000
DTSTAMP:20260420T134709
CREATED:20240301T085040Z
LAST-MODIFIED:20240304T152948Z
UID:2665-1711648800-1711656000@mehr-raum.at
SUMMARY:Mantra Singkreis
DESCRIPTION:
URL:https://mehr-raum.at/termin/mantra-singkreis/
ATTACH;FMTTYPE=image/jpeg:https://mehr-raum.at/wp-content/uploads/2024/03/IMG_20220417_200208_026.jpg
END:VEVENT
END:VCALENDAR