BEGIN:VCALENDAR
VERSION:2.0
PRODID:-//mehr RAUM - ECPv6.2.3.2//NONSGML v1.0//EN
CALSCALE:GREGORIAN
METHOD:PUBLISH
X-ORIGINAL-URL:https://mehr-raum.at
X-WR-CALDESC:Veranstaltungen für mehr RAUM
REFRESH-INTERVAL;VALUE=DURATION:PT1H
X-Robots-Tag:noindex
X-PUBLISHED-TTL:PT1H
BEGIN:VTIMEZONE
TZID:Europe/Berlin
BEGIN:DAYLIGHT
TZOFFSETFROM:+0100
TZOFFSETTO:+0200
TZNAME:CEST
DTSTART:20260329T010000
END:DAYLIGHT
BEGIN:STANDARD
TZOFFSETFROM:+0200
TZOFFSETTO:+0100
TZNAME:CET
DTSTART:20261025T010000
END:STANDARD
END:VTIMEZONE
BEGIN:VEVENT
DTSTART;TZID=Europe/Berlin:20260325T160000
DTEND;TZID=Europe/Berlin:20260325T180000
DTSTAMP:20260420T121928
CREATED:20260112T092913Z
LAST-MODIFIED:20260120T150854Z
UID:8041-1774454400-1774461600@mehr-raum.at
SUMMARY:Sing ma mitanaund
DESCRIPTION:
URL:https://mehr-raum.at/termin/sing-ma-mitanaund-14/
END:VEVENT
END:VCALENDAR